Workbook

Sheet Duplications
A1: Sr. No. | B1: Name | C1: Received | D1: Pending Actionable | E1: Registration No. | F1: Contact Person | G1: Address | H1: Email-Id | I1: Telephone | J1: Fax | K1: City | L1: State | M1: Pincode | N1: Address | O1: Email-Id | P1: Telephone | Q1: Fax | R1: City | S1: State | T1: Pincode | U1: From | V1: To | W1: Country
A2: 1 | B2: Gaurav Jain | E2: INA100011492 | F2: Gaurav Jain | G2: 93, New Model Apts, Sec-13, Rohini | H2: gaurav28jain@gmail.com | K2: DELHI | L2: NATIONAL CAPITAL TERRITORY OF DELHI | M2: 110085 | N2: 93, New Model Apts, Sec-13, Rohini | R2: DELHI | S2: NATIONAL CAPITAL TERRITORY OF DELHI | T2: 110085 | U2: Aug 23, 2018 | V2: Perpetual
A3: 2 | B3: GAURAV JAIN. | E3: INA100007365 | F3: GAURAV JAIN | G3: Street kishore kan , Sardhana | H3: GSPJAIN@GMAIL.COM | K3: MEERUT | L3: UTTAR PRADESH | M3: 250342 | N3: Street kishore kan , Sardhana | R3: MEERUT | S3: UTTAR PRADESH | T3: 250342 | U3: Mar 23, 2017 | V3: Perpetual
A4: 3 | B4: GAURAV JAIN, | E4: INA300016862 | G4: 7TH FLOOR, MAINAAK TOWERS, CHRISTAN BASTI, G.S ROAD | K4: GUWAHATI | L4: ASSAM | M4: 781005 | N4: 7TH FLOOR, MAINAAK TOWERS, CHRISTAN BASTI, G.S ROAD | R4: GUWAHATI | S4: ASSAM | T4: 781005 | U4: May 14, 2022 | V4: Perpetual
B5: GAUTAM PARSHOTTAMBHAI BARASIYA (PROPRIETOR OF GREEN STOCK ADVISORY) | C5: 13 | D5: 0 | E5: INA000002793 | F5: GAUTAM PARSHOTTAMBHAI BARASIYA | G5: 122 - STAR CHAMBERS, FIRST FLOOR, HARIHAR CHOWK | H5: gautam.barsiya@gmail.com | I5: 0281 6644555 | J5: 0281 6644555 | K5: RAJKOT | L5: GUJARAT | M5: 360001 | N5: 122 Star Chambers, First Floor, Harihar Chowk | R5: RAJKOT | S5: GUJARAT | T5: 360001 | U5: Mar 04, 2015 | V5: Perpetual
B6: Gautam Singh Bhadoriya (Proprietor) Wealth Buildup Financial Services | C6: 12 | D6: 0 | E6: INA000008507 | F6: Gautam Bhadoriya | G6: UG-09 , ROYAL RATAN BUILDING 07 M.G. ROAD | H6: wealthbuildup@gmail.com | K6: INDORE | L6: MADHYA PRADESH | M6: 452001 | N6: UG-09 , ROYAL RATAN BUILDING 07 M.G. ROAD | R6: INDORE | S6: MADHYA PRADESH | T6: 452001 | U6: Sep 23, 2017 | V6: Perpetual
B7: GIRIRAJ CARPANTER PROPRIETOR INVESTO RESEARCH | C7: 9 | D7: 0 | E7: INA000003445 | F7: GIRIRAJ CARPANTER | G7: 147-F,, MIG COLONY, NEAR VIJAY NAGAR | H7: girirajcarpanter@gmail.com | I7: 07314218311 | J7: 07314218311 | K7: INDORE | L7: MADHYA PRADESH | M7: 452001 | N7: 147-F, MIG Colony, Near Vijay Nagar | R7: INDORE | S7: MADHYA PRADESH | T7: 452001 | U7: Sep 07, 2015 | V7: Perpetual
B8: Grabsure Investment Advisor | C8: 13 | D8: 0 | E8: INA000010265 | F8: Sandeep Choudhary | G8: Plot No 53. Scheme No. 53 , Ratan Lok Colony, Vijay Nagar | H8: choudharysandeep825@gmail.com | K8: INDORE | L8: MADHYA PRADESH | M8: 452001 | N8: Plot No 53. Scheme No. 53 , Ratan Lok Colony, Vijay Nagar | R8: INDORE | S8: MADHYA PRADESH | T8: 452001 | U8: Apr 09, 2018 | V8: Perpetual
B9: Growthlift Investment Advisories Pvt Ltd | C9: 5 | D9: 0 | E9: INA200014283 | F9: Sandeep Pai | G9: No 3 Educational Insitution, Jayadeva | H9: growthlift@gmail.com | K9: BANGALORE | L9: KARNATAKA | M9: 560078 | N9: No 3 Educational Insitution, Jayadeva | R9: BANGALORE | S9: KARNATAKA | T9: 560078 | U9: Dec 09, 2019 | V9: Perpetual
B10: GULSHAN KHERA | C10: 1 | D10: 0 | E10: INA100011988 | F10: Gulshan Khera | G10: Office no 2, B-XXXII-E-13/82,, MAIN ROAD BHAURA, AMAN NAGAR | H10: thegkbull@gmail.com | K10: LUDHIANA | L10: PUNJAB | M10: 141008 | N10: Office no 2, B-XXXII-E-13/82, MAIN ROAD BHAURA, AMAN NAGAR | R10: LUDHIANA | S10: PUNJAB | T10: 141008 | U10: Nov 12, 2018 | V10: Perpetual
B11: HARDIK MAHENDRAKUMAR SHUKLA | C11: 2 | D11: 0 | E11: INA000001829 | F11: HARDIK MAHENDRAKUMAR SHUKLA | G11: 104, NEW YORK PLAZA, JUDGES BUNGALOW ROAD, VASTRAPUR | H11: shuklahardikm@gmail.com | I11: 07926870262 | J11: 07926870262 | K11: AHMEDABAD | L11: GUJARAT | M11: 380015 | N11: 104, New York Plaza, Judges Bungalow Road, Vastrapur | R11: AHMEDABAD | S11: GUJARAT | T11: 380015 | U11: Jun 03, 2014 | V11: Perpetual
B12: HARIOM SHARAN PATEL PROPREITOR BIS CAPITAL INVESTMENT ADVISOR | C12: 12 | D12: 0 | E12: INA000003346 | F12: HARIOM SHARAN PATEL | G12: 504, THE MARK BUILDING, SAKET SQUARE | H12: info@biscapital.com | I12: 07316500117 | J12: 07316500117 | K12: INDORE | L12: MADHYA PRADESH | M12: 452001 | N12: 504, The Mark Building, Saket Square | R12: INDORE | S12: MADHYA PRADESH | T12: 452001 | U12: Aug 18, 2015 | V12: Perpetual
B13: HDFC SECURITIES LIMITED | C13: 2 | D13: 0 | E13: INA000011538 | F13: MURLI KARKERA | G13: I Think Techno Campus Building-B, 'Alpha', 8th Floor, Opp. Crompton Greaves, Near Kanjurmarg Station, Kanjurmarg(East), | H13: murli.karkera@hdfcsec.com | I13: 02202230750052 | J13: 02202230750052 | K13: MUMBAI | L13: MAHARASHTRA | M13: 400042 | N13: I Think Techno Campus Building-B, 'Alpha', 8th Floor, Opp. Crompton Greaves, Near Kanjurmarg Station, Kanjurmarg(East), | R13: MUMBAI | S13: MAHARASHTRA | T13: 400042 | U13: Aug 23, 2018 | V13: Perpetual
B14: HEMANT SONI PROPRIETOR of FIRST ADVISER | C14: 44 | D14: 0 | E14: INA000008765 | F14: Hemant Soni | G14: 01, 1st Floor, Diamond Tower, Tilak Nagar, , Near Ram Nagar Chouraha, AB Road | H14: soni.hemant2011@gmail.com | K14: DEWAS | L14: MADHYA PRADESH | M14: 455001 | N14: 01, 1st Floor, Diamond Tower, Tilak Nagar, , Near Ram Nagar Chouraha, AB Road | R14: DEWAS | S14: MADHYA PRADESH | T14: 455001 | U14: Nov 01, 2017 | V14: Perpetual
B15: HIGHLIGHT INVESTMENT RESEARCH | C15: 64 | D15: 1 | E15: INA000007094 | F15: SHILPA GARG | G15: 366-367, Scheme No.- 54, PU-4 , Indore | H15: SHILPA@HIGHLIGHTINVESTMENT.COM | K15: INDORE | L15: MADHYA PRADESH | M15: 452010 | N15: 366-367, Scheme No.- 54, PU-4 , Indore | R15: INDORE | S15: MADHYA PRADESH | T15: 452010 | U15: Feb 15, 2017 | V15: Perpetual
B16: HIMANSHU BHARATKUMAR BHAVSAR | C16: 19 | D16: 0 | E16: INA000011501 | F16: HIMANSHU BHAVSAR | G16: 5-9-103-1, Parekh Pole ,, Near Ek tower , Visnagar, Mahesana , | H16: himanshubhavsar7479@gmail.com | K16: MEHSANA | L16: GUJARAT | M16: 384315 | N16: 5-9-103-1, Parekh Pole , Near Ek tower , Visnagar, Mahesana , | R16: MEHSANA | S16: GUJARAT | T16: 384315 | U16: Aug 23, 2018 | V16: Perpetual
B17: HIMESH GUPTA PROPRIETOR CYCLONE MONEY | C17: 4 | D17: 0 | E17: INA000003379 | F17: HIMESH GUPTA | G17: 107-B, KANCHAN SAGAR, PALASIA, A.B. ROAD | H17: him108.gupta@gmail.com | I17: 07313025641 | J17: 07313025641 | K17: INDORE | L17: MADHYA PRADESH | M17: 452010 | N17: 107-B, Kanchan Sagar, Palasia, A.B. Road | R17: INDORE | S17: MADHYA PRADESH | T17: 452010 | U17: Aug 24, 2015 | V17: Perpetual
B18: ICICI Investment Management Company Ltd | C18: 1 | D18: 0 | E18: INA000013785 | G18: ICICI Investment Management Company Ltd, ICICI Bank Towers Bandra-Kurla Complex Mumbai | K18: MUMBAI | L18: MAHARASHTRA | M18: 400051 | N18: ICICI Investment Management Company Ltd, ICICI Bank Towers Bandra-Kurla Complex Mumbai | R18: MUMBAI | S18: MAHARASHTRA | T18: 400051 | U18: Aug 14, 2019 | V18: Perpetual
B19: ICICI SECURITIES LIMITED | C19: 18 | D19: 0 | E19: INA000000094 | F19: Abhishake Mathur Senior Vice President | G19: ICICI VENTURE HOUSE, APPASAHEB MARATHE MARG, PRABHADEVI | H19: abhishake.mathur@icicisecurities.com | I19: 2240701382 | J19: 2240701382 | K19: MUMBAI | L19: MAHARASHTRA | M19: 400025 | N19: ICICI Centre, H.T.Parekh Marg, Near Juinagar Railway Station | R19: NAVI MUMBAI | S19: MAHARASHTRA | T19: 400705 | U19: Aug 05, 2013 | V19: Perpetual
B20: IDFC ALTERNATIVES LIMITED | C20: 1 | D20: 0 | E20: INA000001738 | F20: MR. NARENDRA GANGAN | G20: C-32, NAMAN CHAMBERS,, BANDRA-KURLA COMPLEX,BANDRA (EAST) | H20: Narendra.gangan@idfc.cdom | I20: 022 42222000 | J20: 022 42222000 | K20: MUMBAI | L20: MAHARASHTRA | M20: 400051 | N20: C-32, Naman Chambers, Bandra-Kurla Complex,Bandra (East) | R20: MUMBAI | S20: MAHARASHTRA | T20: 400051 | U20: May 16, 2014 | V20: Perpetual
B21: IFAST FINANCIAL INDIA PVT. LTD. | C21: 1 | D21: 0 | E21: INA000000763 | F21: DEEPASHRI SHANBHAG | G21: 1,RAHEJA TITANIUM ,GROUND FLOOR, WESTERN EXPRESS HIGHWAY,GOREGAON (EAST ) | H21: deepashris@ifastfinancial.com | I21: 2242199401 | J21: 2242199401 | K21: MUMBAI | L21: MAHARASHTRA | M21: 400063 | N21: 1,Raheja Titanium ,Ground Floor, Western express Highway,Goregaon (East ) | R21: MUMBAI | S21: MAHARASHTRA | T21: 400063 | U21: Jan 01, 2014 | V21: Perpetual
B22: IIFL INVESTMENT ADVISER AND TRUSTEE SERVICES LTD | C22: 1 | D22: 0 | E22: INA000000888 | F22: MR. RUPAM NAGVEKAR | G22: IIFL Centre, Kamala Mills, Senapati Bapat Marg, Lower Parel | H22: Rupam.nagvekar@iiflw.com | I22: 022 39575793 | J22: 022 39575793 | K22: MUMBAI | L22: MAHARASHTRA | M22: 400013 | N22: 7th Floor,IIFL Centre, Kamala Mills Compound,Senapati Bapat Marg,Lower Parel (West), | R22: MUMBAI | S22: MAHARASHTRA | T22: 400013 | U22: Jan 22, 2014 | V22: Perpetual
B23: Immortal Research | C23: 21 | D23: 0 | E23: INA000007359 | F23: Neha Sharma | G23: 102 Rajasthan Palace, 11 Anoop Nagar, A.B Road indore | H23: support@immortalresearch.in | K23: INDORE | L23: MADHYA PRADESH | M23: 452001 | N23: 102 Rajasthan Palace, 11 Anoop Nagar, A.B Road indore | R23: INDORE | S23: MADHYA PRADESH | T23: 452001 | U23: Mar 21, 2017 | V23: Perpetual
B24: International Money Matters Private Limited | C24: 1 | D24: 0 | E24: INA200010676 | F24: Shantala Kumble | G24: International Money Matters Pvt Ltd Phoenix Primus ,No 590 / 1st Floor,, 12th Main, HAL II Stage, Indira Nagar | H24: shantala@immpl.com | K24: BANGALORE | L24: KARNATAKA | M24: 560038 | N24: International Money Matters Pvt Ltd Phoenix Primus ,No 590 / 1st Floor, 12th Main, HAL II Stage, Indira Nagar | R24: BANGALORE | S24: KARNATAKA | T24: 560038 | U24: May 24, 2018 | V24: Perpetual
B25: ISHAAN GUPTA | C25: 1 | D25: 0 | E25: INA100003675 | F25: ISHAAN GUPTA | G25: B-2/48, SAFDARJUNG ENCLAVE | H25: ig@igvalue.com | I25: 1244012599 | J25: 1244012599 | K25: NEW DELHI | M25: 110029 | N25: B-2/48, Safdarjung Enclave | R25: NEW DELHI | T25: 110029 | U25: Oct 20, 2015 | V25: Perpetual
B26: JASMEET BAGGA PROPRIETOR RESEARCH INFOTECH | C26: 189 | D26: 0 | E26: INA000003726 | F26: JASMEET BAGGA | G26: 504, shagun tower, vijaynagar pu4232 | H26: jasmeet1788@gmail.com | I26: 0731 000000 | J26: 0731 000000 | K26: INDORE | L26: MADHYA PRADESH | M26: 452001 | N26: 303, Shivam Apartment, 26, Shivampuri Colony | R26: INDORE | S26: MADHYA PRADESH | T26: 452001 | U26: Oct 30, 2015 | V26: Perpetual
B27: Jitendra Dangi | C27: 8 | D27: 0 | E27: INA000007058 | F27: Jitendra Dangi | G27: 204, 2nd Floor, Icon Building, Kalani Bagh | H27: capitalfederation@gmail.com | K27: DEWAS | L27: MADHYA PRADESH | M27: 455001 | N27: 204, 2nd Floor, Icon Building, Kalani Bagh | R27: DEWAS | S27: MADHYA PRADESH | T27: 455001 | U27: Feb 07, 2017 | V27: Perpetual
B28: JMP GOLDEN AEGIS INVESTMENT ADVISOR | C28: 49 | D28: 0 | E28: INA000010098 | F28: AYUSH SAHU | G28: OFFICE NO 408 PLOT NO 27 OM GURUDEV PLAZA SCH NO 54, MECHANIC NAGAR EXT INDORE | H28: ayushsahu.pimr2012@gmail.com | K28: INDORE | L28: MADHYA PRADESH | M28: 452001 | N28: OFFICE NO 408 PLOT NO 27 OM GURUDEV PLAZA SCH NO 54, MECHANIC NAGAR EXT INDORE | R28: INDORE | S28: MADHYA PRADESH | T28: 452001 | U28: Mar 20, 2018 | V28: Perpetual
B29: jUPITERR TECHNOLOGIES | C29: 6 | D29: 0 | E29: INA100010147 | F29: Piyush Gupta | G29: B-58 1st Floor Harpal Nagar | H29: piyush20gup@gmail.com | K29: MORADABAD | L29: UTTAR PRADESH | M29: 244001 | N29: B-58 1st Floor Harpal Nagar | R29: MORADABAD | S29: UTTAR PRADESH | T29: 244001 | U29: Apr 02, 2018 | V29: Perpetual
B30: JYOTI LODHWAL PROPRIETOR ADVISER STREET | C30: 65 | D30: 0 | E30: INA000003437 | F30: JYOTI LODHWAL | G30: OLD 215, NEW 484, SECTOR - F, RAJ NAGAR | H30: adviserstreet@gmail.com | I30: 0731000000 | J30: 0731000000 | K30: INDORE | L30: MADHYA PRADESH | M30: 452001 | N30: Old 215, New 484, Sector - F, Raj Nagar | R30: INDORE | S30: MADHYA PRADESH | T30: 452001 | U30: Sep 07, 2015 | V30: Perpetual
B31: KALEIDOFIN PRIVATE LIMITED | C31: 1 | D31: 0 | E31: INA200009874 | F31: Sucharita Mukherjee | G31: MODULE NO.1A, BLOCK A,6TH FLOOR PHASE 2, KANAGAM ROAD, IIT MADRAS RESEARCH, TARAMANI | H31: sucharita@kaleidofin.com | K31: CHENNAI | L31: TAMIL NADU | M31: 600113 | N31: MODULE NO.1A, BLOCK A,6TH FLOOR PHASE 2, KANAGAM ROAD, IIT MADRAS RESEARCH, TARAMANI | R31: CHENNAI | S31: TAMIL NADU | T31: 600113 | U31: Feb 22, 2018 | V31: Perpetual
B32: Kalpesh bharatbhai kotaval | C32: 1 | D32: 0 | E32: INA000010618 | F32: Kalpesh Kotaval | G32: Shop no 412, Ranuja Housing Board, Near Temple, Parth Vidhya | H32: kalpeshkotvar93@gmail.com | K32: RAJKOT | L32: GUJARAT | M32: 360002 | N32: Shop no 412, Ranuja Housing Board, Near Temple, Parth Vidhya | R32: RAJKOT | S32: GUJARAT | T32: 360002 | U32: May 18, 2018 | V32: Perpetual
B33: KARVY INVESTMENT ADVISORY SERVICES LIMITED | C33: 34 | D33: 0 | E33: INA200001959 | F33: MS. JHARNA AGARWAL | G33: 'KARVY HOUSE', 46, AVENUE 4,, STREET NO. 1, BANJARA HILLS, | H33: jharna.Agarwal@karvy.com | I33: 2233055010 | J33: 2233055010 | K33: HYDERABAD | L33: ANDHRA PRADESH | M33: 500034 | N33: 702, Hallmark Business PLaza, Sant Dnyaneshwar marg, Off. bandra Kurla Complex, Bandra (East), | R33: MUMBAI | S33: MAHARASHTRA | T33: 400051 | U33: Jul 03, 2014 | V33: Perpetual
B34: kaushal mehta | C34: 1 | D34: 1 | E34: INA000006749 | F34: kaushal mehta | G34: Flat No. 804, A -Wing, Divya Vaishnavi CHS, , Gorai -3, Near Maxus mall, Borivali -west | H34: kaushalkmehta9@gmail.com | K34: MUMBAI | L34: MAHARASHTRA | M34: 400092 | N34: Flat No. 804. A- wing, Divya Vaishanvi CHS, Gorai - 3, Near Maxus Mall, Borivali -west | R34: MUMBAI | S34: MAHARASHTRA | T34: 400092 | U34: Nov 29, 2016 | V34: Perpetual
B35: KHUSHBOO VATSA PROPRIETOR TRADE NIVESH INVESTMENT ADVISER | C35: 50 | D35: 0 | E35: INA000002876 | F35: KHUSHBOO VATSA | G35: 426, ALOK NAGAR , (BAIKUNTH VIHAR), IN FRONT OF SAI MANDIR , INDORE | H35: vatsa.khushboo@gmail.com | I35: 0731000000 | J35: 0731000000 | K35: INDORE | L35: MADHYA PRADESH | M35: 452001 | N35: 201, Anmol Regency, 113, Brajeshwari Anex | R35: INDORE | S35: MADHYA PRADESH | T35: 452001 | U35: Mar 31, 2015 | V35: Perpetual
B36: Kotak Investment Advisors Limited | C36: 2 | D36: 0 | E36: INA000012519 | F36: Rajeev Saptarshi | G36: 27BKC, 7th Floor, Plot No. C-27, G Block, Bandra Kurla Complex, Bandra East | H36: compliance.kial@kotak.com | K36: MUMBAI | L36: MAHARASHTRA | M36: 400051 | N36: 27BKC, 7th Floor, Plot No. C-27, G Block, Bandra Kurla Complex, Bandra East | R36: MUMBAI | S36: MAHARASHTRA | T36: 400051 | U36: Feb 25, 2019 | V36: Perpetual
B37: krishna kumar jaiswal | C37: 8 | D37: 0 | E37: INA000009074 | F37: krishna jaiswal | G37: Ward no. -6, Kathar para, west chirimiri, podi kalari | H37: krishna.jaiswal88@gmail.com | K37: BILASPUR | L37: CHHATTISGARH | M37: 497773 | N37: Ward no. -6, Kathar para, west chirimiri, podi kalari | R37: BILASPUR | S37: CHHATTISGARH | T37: 497773 | U37: Nov 17, 2017 | V37: Perpetual
B38: KRISTAL ADVISORS PRIVATE LIMITED | C38: 1 | D38: 0 | E38: INA100014569 | F38: Pavithra Vasudevan | G38: Indiqube Orion, 2nd Sector, 24th Main Road, 1st Floor, Haralukunte Village, Begur Hobli, HSR Layout | H38: compliance@kristal.ai | I38: 00009994368806 | J38: 00009994368806 | K38: BANGALORE | L38: KARNATAKA | M38: 560102 | N38: Indiqube Orion, Sy.No.55/11B & 55/13, Sector 2, 24th Main Road, , HSR Layout, Haralukunte Village, Begur Hobli, Bangalore South Taluk | R38: BANGALORE | S38: KARNATAKA | T38: 560102 | U38: Mar 11, 2020 | V38: Perpetual
B39: Kumar Manish | C39: 1 | D39: 0 | E39: INA000008677 | F39: Kumar Manish | G39: 13/1001, NRI Complex, Seawoods Estates, Sector 54/56/58, Nerul | H39: kmsinha@yahoo.com | K39: NAVI MUMBAI | L39: MAHARASHTRA | M39: 400706 | N39: 13/1001, NRI Complex, Seawoods Estates, Sector 54/56/58, Nerul | R39: NAVI MUMBAI | S39: MAHARASHTRA | T39: 400706 | U39: Oct 26, 2017 | V39: Perpetual
B40: Kundan Mishra | C40: 1 | D40: 0 | E40: INA100013649 | F40: Kundan Mishra | G40: 592CHHA/672/1, SWAROOP NAGAR, TELIBAGH | H40: kundan.mishra006@gmail.com | K40: LUCKNOW | L40: UTTAR PRADESH | M40: 226025 | N40: 592CHHA/672/1, SWAROOP NAGAR, TELIBAGH | R40: LUCKNOW | S40: UTTAR PRADESH | T40: 226025 | U40: Jul 17, 2019 | V40: Perpetual
...

Sheet SEBI List
A1: Name | B1: Received | C1: Pending Actionable | D1: Registration Id | E1: Contact Person | F1: Address | G1: Email-Id | H1: Type | I1: Telephone | J1: City | K1: State | L1: Pincode | M1: If the person is part of the 1318 SEBI RIA list | N1: If the person is part of BSEASL list | O1: BSEASL registration number | P1: ARIA
A2: EPIC RESEARCH PRIVATE LIMITED | B2: 759 | C2: 0 | D2: INA000001225 | E2: Talukdar | F2: 411, MILINDA MANOR, 2 RNT MARG | G2: =VLOOKUP('SEBI List'!D:D,'SEBI RIA''s List'!B:E,4,0) -> mnadeem@epicresearch.co | I2: =VLOOKUP(G:G,'SEBI RIA''s List'!E:F,2,0) -> 07316600124 | J2: =VLOOKUP(D:D,'SEBI RIA''s List'!B:H,7,0) -> INDORE | K2: =VLOOKUP(D:D,'SEBI RIA''s List'!B:I,8,0) -> MADHYA PRADESH | L2: =VLOOKUP(D:D,'SEBI RIA''s List'!B:J,9,0) -> 452001 | M2: Yes | N2: No | O2: NA | P2: =IFERROR(VLOOKUP(D2,'ARIA Member List'!$I$1:$J$275,2,FALSE),"No") -> No
A3: TRIFID RESEARCH | B3: 718 | C3: 0 | D3: INA000001290 | E3: VIVEK TYAGI | F3: Plot No 3-A, 1st Floor, Saket Tower, AB Road, Ratlam Kothi, , Near Geeta Bhawan Square, | G3: =VLOOKUP('SEBI List'!D:D,'SEBI RIA''s List'!B:E,4,0) -> vtyagi@trifidresearch.com | I3: =VLOOKUP(G:G,'SEBI RIA''s List'!E:F,2,0) -> 07316632032 | J3: =VLOOKUP(D:D,'SEBI RIA''s List'!B:H,7,0) -> INDORE | K3: =VLOOKUP(D:D,'SEBI RIA''s List'!B:I,8,0) -> MADHYA PRADESH | L3: =VLOOKUP(D:D,'SEBI RIA''s List'!B:J,9,0) -> 452001 | M3: Yes | N3: No | O3: NA | P3: =IFERROR(VLOOKUP(D3,'ARIA Member List'!$I$1:$J$275,2,FALSE),"No") -> No
A4: CAPITALVIA GLOBAL RESEARCH LTD. | B4: 694 | C4: 0 | D4: INA200001512 | E4: AARUNI SHARMA | F4: 1st Floor Spring Board, Kagalwala House Plot No 175, Behind Metro House CST Road, Kalina,, Bandra Kurla Complex, Santacruz East Mumbai | G4: =VLOOKUP('SEBI List'!D:D,'SEBI RIA''s List'!B:E,4,0) -> compliance@capitalvia.com | H4: Equity/Derivative | I4: =VLOOKUP(G:G,'SEBI RIA''s List'!E:F,2,0) -> 9107313502736 | J4: =VLOOKUP(D:D,'SEBI RIA''s List'!B:H,7,0) -> MUMBAI | K4: =VLOOKUP(D:D,'SEBI RIA''s List'!B:I,8,0) -> MAHARASHTRA | L4: =VLOOKUP(D:D,'SEBI RIA''s List'!B:J,9,0) -> 400098 | M4: Yes | N4: Yes | O4: 1285 | P4: =IFERROR(VLOOKUP(D4,'ARIA Member List'!$I$1:$J$275,2,FALSE),"No") -> No
A5: TABREZ KHAN PROPRIETOR ZOID RESEARCH; PROPRIETOR M/S ZOID RESEARCH | B5: 620 | C5: 0 | D5: INA000001282 | E5: TABREZ KHAN | F5: S.G.K. HOUSE, 2ND FLOOR, 14-B KAILASH PARK COLONY, GEETA BHAVAN | G5: =VLOOKUP('SEBI List'!D:D,'SEBI RIA''s List'!B:E,4,0) -> gunjanjoshi.24@gmail.com | I5: =VLOOKUP(G:G,'SEBI RIA''s List'!E:F,2,0) -> 07310000000 | J5: =VLOOKUP(D:D,'SEBI RIA''s List'!B:H,7,0) -> INDORE | K5: =VLOOKUP(D:D,'SEBI RIA''s List'!B:I,8,0) -> MADHYA PRADESH | L5: =VLOOKUP(D:D,'SEBI RIA''s List'!B:J,9,0) -> 452001 | M5: Yes | N5: No | O5: NA | P5: =IFERROR(VLOOKUP(D5,'ARIA Member List'!$I$1:$J$275,2,FALSE),"No") -> No
A6: HIGHBROW MARKET RESEARCH PVT. LTD./Highbrow (Ways2Capital) | B6: 603 | C6: 0 | D6: INA000001134 | E6: SWAPNIL PRAJAPATI | F6: 515-516, SHAGUN ARCADE, SCHEME NO. 54, VIJAY NAGAR SQUARE, A.B. ROAD | G6: =VLOOKUP('SEBI List'!D:D,'SEBI RIA''s List'!B:E,4,0) -> swapnil.prajapati@ways2capital.com | I6: =VLOOKUP(G:G,'SEBI RIA''s List'!E:F,2,0) -> 07316626202 | J6: =VLOOKUP(D:D,'SEBI RIA''s List'!B:H,7,0) -> INDORE | K6: =VLOOKUP(D:D,'SEBI RIA''s List'!B:I,8,0) -> MADHYA PRADESH | L6: =VLOOKUP(D:D,'SEBI RIA''s List'!B:J,9,0) -> 452010 | M6: Yes | N6: No | O6: NA | P6: =IFERROR(VLOOKUP(D6,'ARIA Member List'!$I$1:$J$275,2,FALSE),"No") -> No
A7: NISHANT CHOPRA PROPRIETOR DEZIRE RESEARCH | B7: 577 | C7: 0 | D7: INA000004104 | E7: NISHANT CHOPRA | F7: PU-4,B-2,BLOCK,5TH FLOOR ,METRO TOWER, SCHEME NO 54,VIJAY NAGAR ,INDORE | G7: =VLOOKUP('SEBI List'!D:D,'SEBI RIA''s List'!B:E,4,0) -> chopra.nishant28@gmail.com | I7: =VLOOKUP(G:G,'SEBI RIA''s List'!E:F,2,0) -> 07314062223 | J7: =VLOOKUP(D:D,'SEBI RIA''s List'!B:H,7,0) -> INDORE | K7: =VLOOKUP(D:D,'SEBI RIA''s List'!B:I,8,0) -> MADHYA PRADESH | L7: =VLOOKUP(D:D,'SEBI RIA''s List'!B:J,9,0) -> 452001 | M7: Yes | N7: No | O7: NA | P7: =IFERROR(VLOOKUP(D7,'ARIA Member List'!$I$1:$J$275,2,FALSE),"No") -> No
A8: RIPPLES ADVISORY PVT. LTD. | B8: 542 | C8: 0 | D8: INA000003049 | F8: 267-B,, SANGAM NAGAR | G8: =VLOOKUP('SEBI List'!D:D,'SEBI RIA''s List'!B:E,4,0) | I8: =VLOOKUP(G:G,'SEBI RIA''s List'!E:F,2,0) | J8: =VLOOKUP(D:D,'SEBI RIA''s List'!B:H,7,0) -> INDORE | K8: =VLOOKUP(D:D,'SEBI RIA''s List'!B:I,8,0) -> MADHYA PRADESH | L8: =VLOOKUP(D:D,'SEBI RIA''s List'!B:J,9,0) -> 452006 | M8: Yes | N8: No | O8: NA | P8: =IFERROR(VLOOKUP(D8,'ARIA Member List'!$I$1:$J$275,2,FALSE),"No") -> No
A9: NEHA GUPTA PROP. TRADE INDIA RESEARCH | B9: 536 | C9: 0 | D9: INA000003064 | E9: NEHA GUPTA | F9: 87, CHATTRAPATI NAGAR, AIRPORT ROAD | G9: =VLOOKUP('SEBI List'!D:D,'SEBI RIA''s List'!B:E,4,0) -> guptaneha@yahoo.in | I9: =VLOOKUP(G:G,'SEBI RIA''s List'!E:F,2,0) -> 0731000000 | J9: =VLOOKUP(D:D,'SEBI RIA''s List'!B:H,7,0) -> INDORE | K9: =VLOOKUP(D:D,'SEBI RIA''s List'!B:I,8,0) -> MADHYA PRADESH | L9: =VLOOKUP(D:D,'SEBI RIA''s List'!B:J,9,0) -> 452001 | M9: Yes | N9: No | O9: NA | P9: =IFERROR(VLOOKUP(D9,'ARIA Member List'!$I$1:$J$275,2,FALSE),"No") -> No
A10: CAPVISION INVESTMENT ADVISOR | B10: 409 | C10: 0 | D10: INA000001845 | E10: RAVI PRAKASH MISHRA | F10: M-4,5,6, MEZZANINE FLOOR, COMMERCE HOUSE BUILDING, 7 RACE COURSE ROAD | G10: =VLOOKUP('SEBI List'!D:D,'SEBI RIA''s List'!B:E,4,0) -> ravi.mishra82217382@gmail.com | H10: Equity/Derivative | I10: =VLOOKUP(G:G,'SEBI RIA''s List'!E:F,2,0) -> 07310000000 | J10: =VLOOKUP(D:D,'SEBI RIA''s List'!B:H,7,0) -> INDORE | K10: =VLOOKUP(D:D,'SEBI RIA''s List'!B:I,8,0) -> MADHYA PRADESH | L10: =VLOOKUP(D:D,'SEBI RIA''s List'!B:J,9,0) -> 452001 | M10: Yes | N10: Yes | O10: 1383 | P10: =IFERROR(VLOOKUP(D10,'ARIA Member List'!$I$1:$J$275,2,FALSE),"No") -> No
A11: CAPITALAIM FINANCIAL ADVISORY PRIVATE LIMITED | B11: 407 | C11: 0 | D11: INA000001563 | F11: 801, Airen Heights, SCHEME 54, VIJAY NAGAR, A.B. ROAD | G11: =VLOOKUP('SEBI List'!D:D,'SEBI RIA''s List'!B:E,4,0) | I11: =VLOOKUP(G:G,'SEBI RIA''s List'!E:F,2,0) | J11: =VLOOKUP(D:D,'SEBI RIA''s List'!B:H,7,0) -> INDORE | K11: =VLOOKUP(D:D,'SEBI RIA''s List'!B:I,8,0) -> MADHYA PRADESH | L11: =VLOOKUP(D:D,'SEBI RIA''s List'!B:J,9,0) -> 452010 | M11: Yes | N11: No | O11: NA | P11: =IFERROR(VLOOKUP(D11,'ARIA Member List'!$I$1:$J$275,2,FALSE),"No") -> No
A12: MONEY MAKER RESEARCH PVT. LTD | B12: 394 | C12: 0 | M12: No | N12: No | O12: NA | P12: =IFERROR(VLOOKUP(D12,'ARIA Member List'!$I$1:$J$275,2,FALSE),"No") -> No
A13: MARKET MAGNIFY GLOBAL RESEARCH PVT. LTD. | B13: 371 | C13: 0 | M13: No | N13: No | O13: NA | P13: =IFERROR(VLOOKUP(D13,'ARIA Member List'!$I$1:$J$275,2,FALSE),"No") -> No
A14: THE EQUICOM FINANCIAL RESEARCH PVT. LTD. | B14: 256 | C14: 0 | D14: INA000001639 | E14: Mr. Neelabh Singh | F14: 1129, SUDAMA NAGAR | G14: =VLOOKUP('SEBI List'!D:D,'SEBI RIA''s List'!B:E,4,0) -> info@theequicom.com | I14: =VLOOKUP(G:G,'SEBI RIA''s List'!E:F,2,0) -> 07316058815 | J14: =VLOOKUP(D:D,'SEBI RIA''s List'!B:H,7,0) -> INDORE | K14: =VLOOKUP(D:D,'SEBI RIA''s List'!B:I,8,0) -> MADHYA PRADESH | L14: =VLOOKUP(D:D,'SEBI RIA''s List'!B:J,9,0) -> 452009 | M14: Yes | N14: No | O14: NA | P14: =IFERROR(VLOOKUP(D14,'ARIA Member List'!$I$1:$J$275,2,FALSE),"No") -> No
A15: DEEPAK MISHRA PROPRIETOR M/S MONEY CLASSIC | B15: 255 | C15: 1 | D15: INA000001431 | E15: DEEPAK MISHRA | F15: 203, MODI MANSION, EB 250, SCHEME NO. 94, RING ROAD | G15: =VLOOKUP('SEBI List'!D:D,'SEBI RIA''s List'!B:E,4,0) -> dpkmishra1112@gmail.com | I15: =VLOOKUP(G:G,'SEBI RIA''s List'!E:F,2,0) -> 0731000000 | J15: =VLOOKUP(D:D,'SEBI RIA''s List'!B:H,7,0) -> INDORE | K15: =VLOOKUP(D:D,'SEBI RIA''s List'!B:I,8,0) -> MADHYA PRADESH | L15: =VLOOKUP(D:D,'SEBI RIA''s List'!B:J,9,0) -> 452010 | M15: Yes | N15: No | O15: NA | P15: =IFERROR(VLOOKUP(D15,'ARIA Member List'!$I$1:$J$275,2,FALSE),"No") -> No
A16: RAJESH SINGH RATHORE PROPRIETOR BONAZ CAPITAL | B16: 251 | C16: 0 | D16: INA000003197 | F16: 43-A, ABHINANDAN NAGAR, SUKHLIYA | G16: =VLOOKUP('SEBI List'!D:D,'SEBI RIA''s List'!B:E,4,0) -> rajesh.rathore@bonazcapital.com | I16: =VLOOKUP(G:G,'SEBI RIA''s List'!E:F,2,0) | J16: =VLOOKUP(D:D,'SEBI RIA''s List'!B:H,7,0) -> INDORE | K16: =VLOOKUP(D:D,'SEBI RIA''s List'!B:I,8,0) -> MADHYA PRADESH | L16: =VLOOKUP(D:D,'SEBI RIA''s List'!B:J,9,0) -> 452010 | M16: Yes | N16: No | O16: NA | P16: =IFERROR(VLOOKUP(D16,'ARIA Member List'!$I$1:$J$275,2,FALSE),"No") -> No
A17: RAJIV KUMAR SINGH PROPRIETOR ELITE INVESTMENT ADVISORY SERVICES | B17: 246 | C17: 10 | D17: INA000003668 | E17: RAJIV KUMAR | F17: House No. 22A/16E/102-E Tej Bahadur Marg Civil Line Prayagraj, 211001, Civil Line | G17: =VLOOKUP('SEBI List'!D:D,'SEBI RIA''s List'!B:E,4,0) -> eliteresearchinfo@gmail.com | I17: =VLOOKUP(G:G,'SEBI RIA''s List'!E:F,2,0) -> 0731000000 | J17: =VLOOKUP(D:D,'SEBI RIA''s List'!B:H,7,0) -> ALLAHABAD | K17: =VLOOKUP(D:D,'SEBI RIA''s List'!B:I,8,0) -> UTTAR PRADESH | L17: =VLOOKUP(D:D,'SEBI RIA''s List'!B:J,9,0) -> 211001 | M17: Yes | N17: No | O17: NA | P17: =IFERROR(VLOOKUP(D17,'ARIA Member List'!$I$1:$J$275,2,FALSE),"No") -> No
A18: PINNACLE MARKET INVESTMENT ADVISORY PVT. LTD | B18: 238 | C18: 0 | D18: INA000005614 | E18: ABHISHEK PATEL | F18: H. NO. 100, RAJA RAM AVENUE, NEAR TULSI NAGAR | G18: =VLOOKUP('SEBI List'!D:D,'SEBI RIA''s List'!B:E,4,0) -> er.abhishekpatel@gmail.com | I18: =VLOOKUP(G:G,'SEBI RIA''s List'!E:F,2,0) -> 07316655555 | J18: =VLOOKUP(D:D,'SEBI RIA''s List'!B:H,7,0) -> INDORE | K18: =VLOOKUP(D:D,'SEBI RIA''s List'!B:I,8,0) -> MADHYA PRADESH | L18: =VLOOKUP(D:D,'SEBI RIA''s List'!B:J,9,0) -> 452001 | M18: Yes | N18: No | O18: NA | P18: =IFERROR(VLOOKUP(D18,'ARIA Member List'!$I$1:$J$275,2,FALSE),"No") -> No
A19: DHARMENDRA KUMAR PROPRIETOR STARINDIA MARKET RESEARCH | B19: 226 | C19: 0 | D19: INA000003627 | E19: DHARMENDRA KUMAR | F19: Office No 307 , B block, 3rd Floor, Corporate House, R.N.T Marg | G19: =VLOOKUP('SEBI List'!D:D,'SEBI RIA''s List'!B:E,4,0) -> starindiaresearch@gmail.com | I19: =VLOOKUP(G:G,'SEBI RIA''s List'!E:F,2,0) -> 0731000000 | J19: =VLOOKUP(D:D,'SEBI RIA''s List'!B:H,7,0) -> INDORE | K19: =VLOOKUP(D:D,'SEBI RIA''s List'!B:I,8,0) -> MADHYA PRADESH | L19: =VLOOKUP(D:D,'SEBI RIA''s List'!B:J,9,0) -> 452001 | M19: Yes | N19: No | O19: NA | P19: =IFERROR(VLOOKUP(D19,'ARIA Member List'!$I$1:$J$275,2,FALSE),"No") -> No
A20: WEALTHIT GLOBAL | B20: 218 | C20: 0 | D20: INA000005473 | F20: 388, PU-4, SCHEME NO. 54 | G20: =VLOOKUP('SEBI List'!D:D,'SEBI RIA''s List'!B:E,4,0) -> wealthitglobal@gmail.com | I20: =VLOOKUP(G:G,'SEBI RIA''s List'!E:F,2,0) -> 07316540999 | J20: =VLOOKUP(D:D,'SEBI RIA''s List'!B:H,7,0) -> INDORE | K20: =VLOOKUP(D:D,'SEBI RIA''s List'!B:I,8,0) -> MADHYA PRADESH | L20: =VLOOKUP(D:D,'SEBI RIA''s List'!B:J,9,0) -> 452010 | M20: Yes | N20: No | O20: NA | P20: =IFERROR(VLOOKUP(D20,'ARIA Member List'!$I$1:$J$275,2,FALSE),"No") -> No
A21: PayTM Money Limited | B21: 197 | C21: 12 | D21: INA100009859 | E21: Sudhendoo Ganddhi | F21: 136, FIRST FLOOR, DEVIKA TOWERS, NEHRU PLACE | G21: =VLOOKUP('SEBI List'!D:D,'SEBI RIA''s List'!B:E,4,0) -> compliance@paytmmoney.com | H21: Online RIA | I21: =VLOOKUP(G:G,'SEBI RIA''s List'!E:F,2,0) -> 918046253716 | J21: =VLOOKUP(D:D,'SEBI RIA''s List'!B:H,7,0) -> NEW DELHI | K21: =VLOOKUP(D:D,'SEBI RIA''s List'!B:I,8,0) -> NATIONAL CAPITAL TERRITORY OF DELHI | L21: =VLOOKUP(D:D,'SEBI RIA''s List'!B:J,9,0) -> 110019 | M21: Yes | N21: Yes | O21: 1262 | P21: =IFERROR(VLOOKUP(D21,'ARIA Member List'!$I$1:$J$275,2,FALSE),"No") -> No
A22: SATUSH SHUKLA PROPRIETOR PROFIT GURU | B22: 195 | C22: 0 | D22: INA000003510 | E22: SATISH SHUKLA | F22: 415, Manorama Ganj,, Shekhar Central,Palasia Chouraha | G22: =VLOOKUP('SEBI List'!D:D,'SEBI RIA''s List'!B:E,4,0) -> satishshukla4@yahoo.com | I22: =VLOOKUP(G:G,'SEBI RIA''s List'!E:F,2,0) -> 0731000000 | J22: =VLOOKUP(D:D,'SEBI RIA''s List'!B:H,7,0) -> INDORE | K22: =VLOOKUP(D:D,'SEBI RIA''s List'!B:I,8,0) -> MADHYA PRADESH | L22: =VLOOKUP(D:D,'SEBI RIA''s List'!B:J,9,0) -> 452001 | M22: Yes | N22: No | O22: NA | P22: =IFERROR(VLOOKUP(D22,'ARIA Member List'!$I$1:$J$275,2,FALSE),"No") -> No
A23: MONEY DESIRE RESEARCH | B23: 193 | C23: 0 | D23: INA000002454 | E23: ANNOP KUMAR TIWARI | F23: 63, MANGAL NAGAR, M-307, SAIRAM PLAZA, BHAWARKUA, A.B. ROAD | G23: =VLOOKUP('SEBI List'!D:D,'SEBI RIA''s List'!B:E,4,0) -> moneydesireresearch@gmail.com | I23: =VLOOKUP(G:G,'SEBI RIA''s List'!E:F,2,0) -> 0731000000 | J23: =VLOOKUP(D:D,'SEBI RIA''s List'!B:H,7,0) -> INDORE | K23: =VLOOKUP(D:D,'SEBI RIA''s List'!B:I,8,0) -> MADHYA PRADESH | L23: =VLOOKUP(D:D,'SEBI RIA''s List'!B:J,9,0) -> 452001 | M23: Yes | N23: No | O23: NA | P23: =IFERROR(VLOOKUP(D23,'ARIA Member List'!$I$1:$J$275,2,FALSE),"No") -> No
A24: JASMEET BAGGA PROPRIETOR RESEARCH INFOTECH | B24: 189 | C24: 0 | D24: INA000003726 | E24: JASMEET BAGGA | F24: 504, shagun tower, vijaynagar pu4232 | G24: =VLOOKUP('SEBI List'!D:D,'SEBI RIA''s List'!B:E,4,0) -> jasmeet1788@gmail.com | I24: =VLOOKUP(G:G,'SEBI RIA''s List'!E:F,2,0) -> 0731 000000 | J24: =VLOOKUP(D:D,'SEBI RIA''s List'!B:H,7,0) -> INDORE | K24: =VLOOKUP(D:D,'SEBI RIA''s List'!B:I,8,0) -> MADHYA PRADESH | L24: =VLOOKUP(D:D,'SEBI RIA''s List'!B:J,9,0) -> 452001 | M24: Yes | N24: No | O24: NA | P24: =IFERROR(VLOOKUP(D24,'ARIA Member List'!$I$1:$J$275,2,FALSE),"No") -> No
A25: ABHISHEK PATEL PROPRIETOR M/S PINNACLE FINANCIAL SERVICES | B25: 183 | C25: 0 | D25: INA000001308 | E25: ABHISHEK PATEL | F25: 101-105, SAYAJI PLAZA, BESIDES AXIS BANK, NEAR SAYAJI HOTEL, SCHEME NUMBER 54, VIJAY NAGAR | G25: =VLOOKUP('SEBI List'!D:D,'SEBI RIA''s List'!B:E,4,0) -> er.abhishekpatel@gmail.com | I25: =VLOOKUP(G:G,'SEBI RIA''s List'!E:F,2,0) -> 07316655555 | J25: =VLOOKUP(D:D,'SEBI RIA''s List'!B:H,7,0) -> INDORE | K25: =VLOOKUP(D:D,'SEBI RIA''s List'!B:I,8,0) -> MADHYA PRADESH | L25: =VLOOKUP(D:D,'SEBI RIA''s List'!B:J,9,0) -> 452010 | M25: Yes | N25: No | O25: NA | P25: =IFERROR(VLOOKUP(D25,'ARIA Member List'!$I$1:$J$275,2,FALSE),"No") -> No
A26: ANKIT VYAS PROPRIETOR MONETARY SOLUTIONS | B26: 175 | C26: 2 | D26: INA000002785 | E26: ANKIT VYAS | F26: 2nd Floor 63-64 Gali No 1 Kailash Marg, Daliya Bhakal Malharganj | G26: =VLOOKUP('SEBI List'!D:D,'SEBI RIA''s List'!B:E,4,0) -> ankit.golu.vyas@gmail.com | H26: Equity/Derivative | I26: =VLOOKUP(G:G,'SEBI RIA''s List'!E:F,2,0) -> 07310000000 | J26: =VLOOKUP(D:D,'SEBI RIA''s List'!B:H,7,0) -> INDORE | K26: =VLOOKUP(D:D,'SEBI RIA''s List'!B:I,8,0) -> MADHYA PRADESH | L26: =VLOOKUP(D:D,'SEBI RIA''s List'!B:J,9,0) -> 452001 | M26: Yes | N26: Yes | O26: 1356 | P26: =IFERROR(VLOOKUP(D26,'ARIA Member List'!$I$1:$J$275,2,FALSE),"No") -> No
A27: RAJIV SHARMA PROPRIETOR M/S CAPITAL LIFE MARKET RESEARCH | B27: 168 | C27: 0 | D27: INA000001365 | E27: RAJIV SHARMA | F27: 403,404,405,Trade House, South Tukoganj,Dhakkan Wala Kuan | G27: =VLOOKUP('SEBI List'!D:D,'SEBI RIA''s List'!B:E,4,0) -> capital.life1708@gmail.com | H27: Equity/Derivative | I27: =VLOOKUP(G:G,'SEBI RIA''s List'!E:F,2,0) -> 07310000000 | J27: =VLOOKUP(D:D,'SEBI RIA''s List'!B:H,7,0) -> INDORE | K27: =VLOOKUP(D:D,'SEBI RIA''s List'!B:I,8,0) -> MADHYA PRADESH | L27: =VLOOKUP(D:D,'SEBI RIA''s List'!B:J,9,0) -> 452001 | M27: Yes | N27: Yes | O27: 1530 | P27: =IFERROR(VLOOKUP(D27,'ARIA Member List'!$I$1:$J$275,2,FALSE),"No") -> No
A28: RESEARCH PANEL INVESTMENT ADVISERS | B28: 159 | C28: 0 | D28: INA000005390 | F28: A-322, SINGAPORE NEST, NEAR PANCHWATI COLONY | G28: =VLOOKUP('SEBI List'!D:D,'SEBI RIA''s List'!B:E,4,0) -> badalbharti19871@gmail.com | I28: =VLOOKUP(G:G,'SEBI RIA''s List'!E:F,2,0) -> 07316550005 | J28: =VLOOKUP(D:D,'SEBI RIA''s List'!B:H,7,0) -> INDORE | K28: =VLOOKUP(D:D,'SEBI RIA''s List'!B:I,8,0) -> MADHYA PRADESH | L28: =VLOOKUP(D:D,'SEBI RIA''s List'!B:J,9,0) -> 452001 | M28: Yes | N28: No | O28: NA | P28: =IFERROR(VLOOKUP(D28,'ARIA Member List'!$I$1:$J$275,2,FALSE),"No") -> No
A29: RAVI PRAKASH MOHTA PROPRIETOR DOLLAR ADVISORY & FINANCIAL SERVICES | B29: 158 | C29: 0 | D29: INA000003882 | F29: Plot No. 54, Scheme No. 54,, PU - 4, Vijay Nagar, Indore | G29: =VLOOKUP('SEBI List'!D:D,'SEBI RIA''s List'!B:E,4,0) | I29: =VLOOKUP(G:G,'SEBI RIA''s List'!E:F,2,0) | J29: =VLOOKUP(D:D,'SEBI RIA''s List'!B:H,7,0) -> INDORE | K29: =VLOOKUP(D:D,'SEBI RIA''s List'!B:I,8,0) -> MADHYA PRADESH | L29: =VLOOKUP(D:D,'SEBI RIA''s List'!B:J,9,0) -> 452001 | M29: Yes | N29: No | O29: NA | P29: =IFERROR(VLOOKUP(D29,'ARIA Member List'!$I$1:$J$275,2,FALSE),"No") -> No
A30: CAPITAL STROKE INVESTMENT SERVICES PVT. LTD. | B30: 157 | C30: 0 | D30: INA000001316 | E30: UPENDRA SINGH RAJPUT | F30: 80, MAHADEV TOTLANAGAR, BANGALI SQUARE, BEHIND LOKHANDWALA COMPLEX | G30: =VLOOKUP('SEBI List'!D:D,'SEBI RIA''s List'!B:E,4,0) -> upendra@capitalstroke.com | I30: =VLOOKUP(G:G,'SEBI RIA''s List'!E:F,2,0) -> 07313299704 | J30: =VLOOKUP(D:D,'SEBI RIA''s List'!B:H,7,0) -> INDORE | K30: =VLOOKUP(D:D,'SEBI RIA''s List'!B:I,8,0) -> MADHYA PRADESH | L30: =VLOOKUP(D:D,'SEBI RIA''s List'!B:J,9,0) -> 452016 | M30: Yes | N30: No | O30: NA | P30: =IFERROR(VLOOKUP(D30,'ARIA Member List'!$I$1:$J$275,2,FALSE),"No") -> No
A31: MONEY CAPITALHEIGHT RESEARCH PVT. LTD. | B31: 157 | C31: 0 | D31: INA000001423 | E31: ATUL KUMAR SINGH | F31: PLOT NO 3 OFFICE NO 305 PEARL BUSINESS PARK, VISHNUPURI MAIN A.B. ROAD | G31: =VLOOKUP('SEBI List'!D:D,'SEBI RIA''s List'!B:E,4,0) -> atul@capitalheight.com | H31: Equity/Derivative | I31: =VLOOKUP(G:G,'SEBI RIA''s List'!E:F,2,0) -> 07314271961 | J31: =VLOOKUP(D:D,'SEBI RIA''s List'!B:H,7,0) -> INDORE | K31: =VLOOKUP(D:D,'SEBI RIA''s List'!B:I,8,0) -> MADHYA PRADESH | L31: =VLOOKUP(D:D,'SEBI RIA''s List'!B:J,9,0) -> 452014 | M31: Yes | N31: Yes | O31: 1334 | P31: =IFERROR(VLOOKUP(D31,'ARIA Member List'!$I$1:$J$275,2,FALSE),"No") -> No
A32: CHITRANJAN SINGH CHOUHAN PROPRIETOR WEALTH RESEARCH FINANCIAL SERVICES | B32: 148 | C32: 0 | D32: INA000003973 | E32: CHITRANJAN SINGH CHOUHAN | F32: 213 , PRINCESS BUSINESS SKYPARK, VIJAY NAGAR | G32: =VLOOKUP('SEBI List'!D:D,'SEBI RIA''s List'!B:E,4,0) -> wealthresearch1@gmail.com | H32: Equity/Derivative | I32: =VLOOKUP(G:G,'SEBI RIA''s List'!E:F,2,0) -> 073100000 | J32: =VLOOKUP(D:D,'SEBI RIA''s List'!B:H,7,0) -> INDORE | K32: =VLOOKUP(D:D,'SEBI RIA''s List'!B:I,8,0) -> MADHYA PRADESH | L32: =VLOOKUP(D:D,'SEBI RIA''s List'!B:J,9,0) -> 452001 | M32: Yes | N32: Yes | O32: 1859 | P32: =IFERROR(VLOOKUP(D32,'ARIA Member List'!$I$1:$J$275,2,FALSE),"No") -> No
A33: MARKET CAPTAIN INVESTMENT ADVISER | B33: 137 | C33: 0 | M33: No | N33: No | O33: NA | P33: =IFERROR(VLOOKUP(D33,'ARIA Member List'!$I$1:$J$275,2,FALSE),"No") -> No
A34: STAR WORLD RESEARCH | B34: 129 | C34: 0 | D34: INA000005499 | F34: PLOT NO. 42, FLAT 201, MR-3 | G34: =VLOOKUP('SEBI List'!D:D,'SEBI RIA''s List'!B:E,4,0) -> infoworldsrs@gmail.com | I34: =VLOOKUP(G:G,'SEBI RIA''s List'!E:F,2,0) -> 07316544487 | J34: =VLOOKUP(D:D,'SEBI RIA''s List'!B:H,7,0) -> INDORE | K34: =VLOOKUP(D:D,'SEBI RIA''s List'!B:I,8,0) -> MADHYA PRADESH | L34: =VLOOKUP(D:D,'SEBI RIA''s List'!B:J,9,0) -> 452001 | M34: Yes | N34: No | O34: NA | P34: =IFERROR(VLOOKUP(D34,'ARIA Member List'!$I$1:$J$275,2,FALSE),"No") -> No
A35: Mukesh Vishvakarma (Proprietor) Striker Stock Research | B35: 124 | C35: 0 | D35: INA000008516 | E35: Mukesh Vishvakarma | F35: 301,302,303, Starling arcade , race course road | G35: =VLOOKUP('SEBI List'!D:D,'SEBI RIA''s List'!B:E,4,0) -> strikerstockresearch@gmail.com | H35: Equity/Derivative | I35: =VLOOKUP(G:G,'SEBI RIA''s List'!E:F,2,0) | J35: =VLOOKUP(D:D,'SEBI RIA''s List'!B:H,7,0) -> INDORE | K35: =VLOOKUP(D:D,'SEBI RIA''s List'!B:I,8,0) -> MADHYA PRADESH | L35: =VLOOKUP(D:D,'SEBI RIA''s List'!B:J,9,0) -> 452001 | M35: Yes | N35: Yes | O35: 1162 | P35: =IFERROR(VLOOKUP(D35,'ARIA Member List'!$I$1:$J$275,2,FALSE),"No") -> No
A36: AMIT GANGRADE PROPRIETOR INVESTMENT RESEARCH ADVISOR | B36: 117 | C36: 1 | D36: INA000003387 | E36: AMIT GANGRADE | F36: 403, Shrinath Avenue, Kibe Compound | G36: =VLOOKUP('SEBI List'!D:D,'SEBI RIA''s List'!B:E,4,0) -> mitgangrade@gmail.com | H36: Equity/Derivative | I36: =VLOOKUP(G:G,'SEBI RIA''s List'!E:F,2,0) -> 0731000000 | J36: =VLOOKUP(D:D,'SEBI RIA''s List'!B:H,7,0) -> INDORE | K36: =VLOOKUP(D:D,'SEBI RIA''s List'!B:I,8,0) -> MADHYA PRADESH | L36: =VLOOKUP(D:D,'SEBI RIA''s List'!B:J,9,0) -> 452001 | M36: Yes | N36: Yes | O36: 1323 | P36: =IFERROR(VLOOKUP(D36,'ARIA Member List'!$I$1:$J$275,2,FALSE),"No") -> yes
A37: SHRI AKHILESH CHAWDA PROPRIETOR M/S CAPITAL COW RESEARCH | B37: 115 | C37: 0 | D37: INA000001126 | E37: SHRI AKHILESH CHAWDA | F37: 411 SHAGUN TOWER, VIJAY NAGAR | G37: =VLOOKUP('SEBI List'!D:D,'SEBI RIA''s List'!B:E,4,0) -> akhilesh.chawda@gmail.com | H37: Equity/Derivative | I37: =VLOOKUP(G:G,'SEBI RIA''s List'!E:F,2,0) -> 07316007000 | J37: =VLOOKUP(D:D,'SEBI RIA''s List'!B:H,7,0) -> INDORE | K37: =VLOOKUP(D:D,'SEBI RIA''s List'!B:I,8,0) -> MADHYA PRADESH | L37: =VLOOKUP(D:D,'SEBI RIA''s List'!B:J,9,0) -> 452010 | M37: Yes | N37: Yes | O37: 1529 | P37: =IFERROR(VLOOKUP(D37,'ARIA Member List'!$I$1:$J$275,2,FALSE),"No") -> No
A38: GAURAV AGRAWAL PROPRIETOR PROFIT VISTA FINANCIAL RESEARCH | B38: 111 | C38: 3 | D38: INA000002678 | E38: GAURAV AGRAWAL | F38: 401 SHAGUN ARCADE, VIJAY NAGAR SQUARE | G38: =VLOOKUP('SEBI List'!D:D,'SEBI RIA''s List'!B:E,4,0) -> profitvista.info@gmail.com | H38: Equity/Derivative | I38: =VLOOKUP(G:G,'SEBI RIA''s List'!E:F,2,0) -> 731000000 | J38: =VLOOKUP(D:D,'SEBI RIA''s List'!B:H,7,0) -> INDORE | K38: =VLOOKUP(D:D,'SEBI RIA''s List'!B:I,8,0) -> MADHYA PRADESH | L38: =VLOOKUP(D:D,'SEBI RIA''s List'!B:J,9,0) -> 452010 | M38: Yes | N38: Yes | O38: 1342 | P38: =IFERROR(VLOOKUP(D38,'ARIA Member List'!$I$1:$J$275,2,FALSE),"No") -> No
A39: MEESHIKA VISHWAKARMA PROPRIETOR SAI PROFICIENT RESEARCH INVESTMENT ADVISORY | B39: 111 | C39: 0 | D39: INA000002504 | E39: MEESHIKA VISHWAKARMA | F39: UG-69, TRADE CENTER, 18, SOUTH TUKOGANJ | G39: =VLOOKUP('SEBI List'!D:D,'SEBI RIA''s List'!B:E,4,0) -> meeshika.mv@gmail.com | I39: =VLOOKUP(G:G,'SEBI RIA''s List'!E:F,2,0) -> 0731 0000000 | J39: =VLOOKUP(D:D,'SEBI RIA''s List'!B:H,7,0) -> INDORE | K39: =VLOOKUP(D:D,'SEBI RIA''s List'!B:I,8,0) -> MADHYA PRADESH | L39: =VLOOKUP(D:D,'SEBI RIA''s List'!B:J,9,0) -> 452001 | M39: Yes | N39: No | O39: NA | P39: =IFERROR(VLOOKUP(D39,'ARIA Member List'!$I$1:$J$275,2,FALSE),"No") -> No
A40: CAPITAL WAYS FINANCIAL SERVICES | B40: 107 | C40: 0 | M40: No | N40: No | O40: NA | P40: =IFERROR(VLOOKUP(D40,'ARIA Member List'!$I$1:$J$275,2,FALSE),"No") -> No
...

Sheet ARIA Complaint Member
A1: Name | B1: Received | C1: Pending Actionable | D1: Registration Id | E1: Contact Person | F1: Address | G1: Email-Id | I1: Telephone | J1: City | K1: State | L1: Pincode | M1: If the person is part of the 1318 SEBI RIA list | N1: If the person is part of BSEASL list | O1: BSEASL registration number | P1: ARIA
A2: AMIT GANGRADE PROPRIETOR INVESTMENT RESEARCH ADVISOR | B2: 117 | C2: 1 | D2: INA000003387 | E2: AMIT GANGRADE | F2: 403, Shrinath Avenue, Kibe Compound | G2: mitgangrade@gmail.com | I2: 0731000000 | J2: INDORE | K2: MADHYA PRADESH | L2: 452001 | M2: Yes | N2: Yes | O2: 1323 | P2: yes
A3: DREAMGAINS FINANCIALS INDIA PRIVATE LTD | B3: 75 | C3: 0 | D3: INA200002973 | E3: MR.SURAJ SREENATH | F3: NO.219, 1ST FLOOR, GAJANANA TOWERS,, JP NAGAR, 2ND PHASE, | G3: suraj.sreenath@dreamgains.com | I3: 8067363636 | J3: BANGALORE | K3: KARNATAKA | L3: 560078 | M3: Yes | N3: Yes | O3: 1309 | P3: yes
A4: Finzoom Investment Advisors Pvt. Ltd. | B4: 42 | C4: 3 | D4: INA100012190 | E4: Ashish Kashyap | F4: BC-27, Sector 50, Nirvana Country | G4: ashish@finzoom.in | J4: GURGAON | K4: HARYANA | L4: 122018 | M4: Yes | N4: Yes | O4: 1154 | P4: yes
A5: SUMIT KUMAR WAGHMARE | B5: 37 | C5: 2 | D5: INA200013099 | E5: SUMIT WAGHMARE | F5: Property No. 1318, JP Nagar 2nd Phase | G5: sumit.waghmare86@gmail.com | J5: BANGALORE | K5: KARNATAKA | L5: 560078 | M5: Yes | N5: Yes | O5: 1236 | P5: yes
A6: REAL TIME FINANCIAL SERVICES | B6: 31 | C6: 1 | D6: INA000010177 | E6: Neha Pareta | F6: Office No. 520 5th Floor Onam Plaza , 18 Palasia AB Road | G6: excellence_india@hotmail.com | J6: INDORE | K6: MADHYA PRADESH | L6: 452009 | M6: Yes | N6: Yes | O6: 1131 | P6: yes
A7: MANU CHHABRA | B7: 30 | C7: 0 | D7: INA200013992 | E7: MANU CHHABRA | F7: D-2 SAI CHARAN APARTMENT,10TH CROSS , DODDA BANASWADI, NEAR RAMAMURTHY CHOWK | G7: absolute.finserve@gmail.com | J7: BANGALORE | K7: KARNATAKA | L7: 560043 | M7: Yes | N7: Yes | O7: 1779 | P7: yes
A8: FUND NAVIGATOR FINANCIAL ADVISERS | B8: 28 | C8: 0 | D8: INA000010168 | E8: Rajesh Parauha | F8: 401-402 Rafael Tower, 8/2 Old Plasia | G8: rajeshparaouha@gmail.com | J8: INDORE | K8: MADHYA PRADESH | L8: 452010 | M8: Yes | N8: Yes | O8: 1509 | P8: yes
A9: EQUENTIS WEALTH ADVISORY SERVICES PRIVATE LIMITED | B9: 24 | C9: 2 | D9: INA000003874 | E9: MR. PARAG PATKI | F9: A-603, Marathon Futurex, Mafatlal Mills Compound,, N. M. Joshi Marg, Lower Parel, | G9: parag.patki@equentis.com | I9: 2261013800 | J9: MUMBAI | K9: MAHARASHTRA | L9: 400013 | M9: Yes | N9: Yes | O9: 1816 | P9: yes
B10: =SUM(B2:B9) -> 384 | C10: =SUM(C2:C9) -> 9

Sheet summary
B2: Summary of unresolved complaints against RIAs registered with BSEASL
C3: No. of RIAs | D3: %age to total | E3: received complaints | F3: %age to total | G3: unresolved complaints | H3: %age to total
B4: More than 10 received complaints | C4: 80 | D4: =C4/C7 -> 0.090293454 | E4: 4999 | F4: =E4/E7 -> 0.93825075 | G4: 49 | H4: =G4/G7 -> 0.81666667
B5: Less than 10 received complaints | C5: 118 | D5: =C5/C7 -> 0.13318284 | E5: 329 | F5: =E5/E7 -> 0.061749249 | G5: 11 | H5: =G5/G7 -> 0.18333333
B6: No complaints ever received | C6: 688 | D6: =C6/C7 -> 0.7765237 | E6: 0 | F6: =E6/E7 -> 0 | G6: 0 | H6: =G6/G7 -> 0
B7: Total | C7: =SUM(C4:C6) -> 886 | D7: =SUM(D4:D6) -> 1 | E7: =SUM(E4:E6) -> 5328 | F7: =SUM(F4:F6) -> 1 | G7: =SUM(G4:G6) -> 60 | H7: =SUM(H4:H6) -> 1

Sheet SEBI RIA's List
A1: Name | B1: Registration No. | C1: Contact Person | D1: Address | E1: Email-Id | F1: Telephone | G1: Fax | H1: City | I1: State | J1: Pincode | K1: Address | L1: Email-Id | M1: Telephone | N1: Fax | O1: City | P1: State | Q1: Pincode | R1: From | S1: To | T1: Country
A2: 1 Finance Private Limited | B2: INA000017523 | C2: Mohan Kumar | D2: Marwadi Financial Plaza Nana Mava Main Road, Off 150 Feet Ring Road | E2: bseasl.membership@bseasl.com | H2: RAJKOT | I2: GUJARAT | J2: 360001 | K2: Unit No B- 1101/1102, 11th Floor B Wing, Lotus Corporate Park Off Western Express Highway Goregaon (E) | O2: MUMBAI | P2: MAHARASHTRA | Q2: 400063 | R2: Dec 22, 2022 | S2: Perpetual
A3: 1729 ADVISORS LLP | B3: INA100011951 | C3: Deepak Thakran | D3: K-135, South City, Phase-1 | E3: deepak@1729advisors.com | F3: 9112404081018 | G3: 9112404081018 | H3: GURGAON | I3: HARYANA | J3: 122001 | K3: K-135, South City, Phase-1 | O3: GURGAON | P3: HARYANA | Q3: 122001 | R3: Oct 31, 2018 | S3: Perpetual
A4: 21G INVESTMENT ADVISERS PRIVATE LIMITED | B4: INA000017231 | C4: ALISHA | D4: 2455 GR, DN ARJAN NAGAR, R S ROAD | E4: munjal2805@gmail.com | H4: LUDHIANA | I4: PUNJAB | J4: 141003 | K4: 2455 GR, DN ARJAN NAGAR, R S ROAD | O4: LUDHIANA | P4: PUNJAB | Q4: 141003 | R4: Oct 07, 2022 | S4: Perpetual
A5: 29K INVESTMENT ADVISERS PRIVATE LTD | B5: INA200000365 | C5: MR.PRASHANTH PRABHU | D5: First Floor, No. 19, Old No.39, 9th Cross, Jayanagar 2 Block | E5: support@29kadvisers.com | F5: 9019110110 | G5: 9019110110 | H5: BANGALORE | I5: KARNATAKA | J5: 560011 | K5: Level 15, Concorde Towers, U B City, 1 VittalMallya Road, | O5: BANGALORE | P5: KARNATAKA | Q5: 560001 | R5: Nov 27, 2013 | S5: Perpetual
A6: 3M TEAM SECURITIES SERVICES PVT. LTD. | B6: INA000002199 | C6: RAKESH SETHI | D6: 325, MILINDA MANOR, RNT MARG, OPP. CENTRAL MALL | E6: rakesh01962@gmail.com | F6: 07314098347 | G6: 07314098347 | H6: INDORE | I6: MADHYA PRADESH | J6: 452001 | K6: 325, Milinda Manor, RNT Marg, Opp. Central Mall | O6: INDORE | P6: MADHYA PRADESH | Q6: 452001 | R6: Sep 09, 2014 | S6: Perpetual
A7: 5paisa Capital Limited | B7: INA000014252 | C7: Namita Godbole | D7: IIFL House, Sun Infotech Park, Plot No. B-23, Road No. 16V, Wagle Estate | E7: namita.godbole@5paisa.com | H7: THANE | I7: MAHARASHTRA | J7: 400604 | K7: IIFL House, Sun Infotech Park, Plot No. B-23, Road No. 16V, Wagle Estate | O7: THANE | P7: MAHARASHTRA | Q7: 400604 | R7: Dec 05, 2019 | S7: Perpetual
A8: 6 SIGMA WEALTH ADVISORS | B8: INA200002536 | C8: MR. S VENKATRAMAN MANAGING PARTNER | D8: New No. 66, 3rd Main Road, Kasturba Nagar, Adyar | E8: 6sigmawealth@gmail.com | F8: 44330033 | G8: 44330033 | H8: CHENNAI | I8: TAMIL NADU | J8: 600020 | K8: Suite 806, MLS Business Centre - Tower II - Floor 8, TVH Beliciaa Towers, MRC Nagar | O8: CHENNAI | P8: TAMIL NADU | Q8: 600028 | R8: Dec 31, 2014 | S8: Perpetual
A9: 90-10 Financial Planners Pvt Ltd | B9: INA200008291 | C9: Rajesh Rao | D9: No.16/4-1, 9th Main, Opp. Jos Alukkas Jewellery, 3rd Block Jayanagar | E9: rajesh@90to10.com | H9: BANGALORE | I9: KARNATAKA | J9: 560011 | K9: No.16/4-1, 9th Main, Opp. Jos Alukkas Jewellery, 3rd Block Jayanagar | O9: BANGALORE | P9: KARNATAKA | Q9: 560011 | R9: Aug 22, 2017 | S9: Perpetual
A10: A&A Dukaan Financial Services Private Limited | B10: INA200006600 | C10: Ajit Narasimhan | D10: No. 14/43, Hameedia Centre, 3rd Floor,, Haddows Road, Nungambakkam | E10: ajit.narasimhan@bankbazaar.com | H10: CHENNAI | I10: TAMIL NADU | J10: 600006 | K10: No. 14/43, Hameedia Centre, 3rd Floor, Haddows Road, Nungambakkam | O10: CHENNAI | P10: TAMIL NADU | Q10: 600006 | R10: Oct 21, 2016 | S10: Perpetual
A11: A. K. Capital Services Limited | B11: INA000007669 | C11: Tejas Dawda | D11: 603, 6th Floor, Windsor, Off CST Road, Kalina, Santacruz East Mumbai | E11: tejas.davda@akgroup.co.in | F11: 912267546546 | G11: 912267546546 | H11: MUMBAI | I11: MAHARASHTRA | J11: 400098 | K11: 30-39, Free Press House, 3rd Floor, Free Press Journal Marg, 215, Nariman Point | O11: MUMBAI | P11: MAHARASHTRA | Q11: 400021 | R11: May 16, 2017 | S11: Perpetual
A12: AARIN ASSET ADVISORS LLP | B12: INA200001074 | C12: DEEPAK NATRAJ | D12: GRACE TOWERS, 2ND FLOOR,, NO.70, MILLERS ROAD, | E12: md@aarinassetadvisors.com | F12: 8030789100 | G12: 8030789100 | H12: BANGALORE | I12: KARNATAKA | J12: 560052 | K12: GRACE TOWERS, 2ND FLOOR, NO.70, MILLERS ROAD, | O12: BANGALORE | P12: KARNATAKA | Q12: 560052 | R12: Feb 11, 2014 | S12: Perpetual
A13: Aarti Mohan (Proprietor : Aurion Advisors) | B13: INA000016454 | C13: AARTI MOHAN | D13: 32 Rivoli Apartments, 49 Veronica Road, Bandra West | E13: AARTIM159@GMAIL.COM | H13: MUMBAI | I13: MAHARASHTRA | J13: 400050 | K13: 32 Rivoli Apartments, 49 Veronica Road, Bandra West | O13: MUMBAI | P13: MAHARASHTRA | Q13: 400050 | R13: Dec 07, 2021 | S13: Perpetual
A14: AARVEE INVESTMENT ADVISERS | B14: INA000010274 | C14: VINAY VAIDYA | D14: Flat No 109 First Floor Krishna Cloth Market , Vithalwadi Kalbdevi | E14: vinay_vaidya2004@yahoo.com | H14: MUMBAI | I14: MAHARASHTRA | J14: 400002 | K14: Flat No 109 First Floor Krishna Cloth Market , Vithalwadi Kalbdevi | O14: MUMBAI | P14: MAHARASHTRA | Q14: 400002 | R14: Apr 10, 2018 | S14: Perpetual
A15: AASHISH BHARGAVA | B15: INA100008629 | C15: AASHISH BHARGAVA | D15: Flat 702, Tower 7, Vipul Greens, Sohna Road, Sector 48 | E15: AASHISH@INVESTMY.MONEY | H15: GURGAON | I15: HARYANA | J15: 122002 | K15: Flat 702, Tower 7, Vipul Greens, Sohna Road, Sector 48 | O15: GURGAON | P15: HARYANA | Q15: 122002 | R15: Oct 26, 2017 | S15: Perpetual
A16: AASHISH TATER | B16: INA300001206 | C16: AASHISH TATER | D16: 21, HEMANTA BASU SARANI,CENTRE POINT,, ROOM NO. 404, | E16: aashishtater@fortunewizard.com | F16: 9133 40732036 | G16: 9133 40732036 | H16: KOLKATA | I16: WEST BENGAL | J16: 700001 | K16: 105/2 A, Northern Heights, Ultadanga Main Road, Flat 304 A,Block 3 | O16: KOLKATA | P16: WEST BENGAL | Q16: 700067 | R16: Mar 07, 2014 | S16: Perpetual
A17: AAUM INVESTMENT ADVISERS PRIVATE LIMITED | B17: INA100005050 | D17: No. 207 (93),, Venkatachalam Street, Mylapore | E17: mahesh.parasuraman@gmail.com | F17: 9867248884 | G17: 9867248884 | H17: CHENNAI | I17: TAMIL NADU | J17: 600004 | K17: REGUS BUSINESS CENTRE, CONCORDE TOWERS, UB CITY, LEVEL 14, 24/1, VITTAL MALLYA ROAD | O17: BANGALORE | P17: KARNATAKA | Q17: 560001 | R17: Jun 28, 2016 | S17: Perpetual
A18: Aavishkaar Investment Advisers IFSC Private Limited | B18: INAIFSC10001 | D18: Unit 608, Signature, 6th Floor, Bldg No 13B, Block No 13, Zone 1, Road 1C, Gift SEZ, Gift City | H18: GANDHINAGAR | I18: GUJARAT | J18: 382355 | K18: 13B, 6th Floor, Techniplex II, Off. Veer Savarkar Flyover, Goregaon West | O18: MUMBAI | P18: MAHARASHTRA | Q18: 400062 | R18: Aug 28, 2020 | S18: Perpetual
A19: Abakkus Asset Manager LLP | B19: INA000015729 | C19: BIHARILAL DEORA | D19: 6th Floor,Param House,Shanti Nagar,Santacruz Chembur Link Road, Santacruz East | E19: BIHARILAL.DEORA@ABAKKUSINVEST.COM | H19: MUMBAI | I19: MAHARASHTRA | J19: 400055 | K19: 6th Floor,Param House,Shanti Nagar,Santacruz Chembur Link Road, Santacruz East | O19: MUMBAI | P19: MAHARASHTRA | Q19: 400055 | R19: Feb 03, 2021 | S19: Perpetual
A20: Abans Commodities India Private Limited | B20: INA100015285 | C20: Amit Banerjee | D20: 36,37,38 Floor 3 Plot 227 NARIMAN BHAVAN, VINAYAK KUMAR SHAH,NCPA,NARIMAN POINT | E20: amit.banerjee@abans.co.in | F20: 9102268354141 | G20: 9102268354141 | H20: MUMBAI | I20: MAHARASHTRA | J20: 400021 | K20: 36, 37, 38A, 3rd Floor, 227 Nariman Bhavan, Backbay Reclamation, Nariman Point, Mumbai | O20: MUMBAI | P20: MAHARASHTRA | Q20: 400021 | R20: Oct 19, 2020 | S20: Perpetual
A21: Abhijit Anil Bhate | B21: INA000007508 | C21: Abhijit Bhate | D21: 1386 , Shukrawar Peth | E21: abhijitbhate@gmail.com | H21: PUNE | I21: MAHARASHTRA | J21: 411002 | K21: 1386, Shukrawar Peth | O21: PUNE | P21: MAHARASHTRA | Q21: 411002 | R21: Apr 12, 2017 | S21: Perpetual
A22: Abhijit Talukdar | B22: INA000006703 | C22: Abhijit Talukdar | D22: A602, Magnolia Enclave, Nahar Amrit Shakti, Chandivali | E22: abhijit.talukdar@attainix.com | H22: MUMBAI | I22: MAHARASHTRA | J22: 400072 | K22: A602, Magnolia Enclave, Nahar Amrit Shakti, Chandivali | O22: MUMBAI | P22: MAHARASHTRA | Q22: 400072 | R22: Nov 29, 2016 | S22: Perpetual
A23: ABHINAV GUPTA | B23: INA100005407 | D23: FLAT NO-K-302, ADITYA MEGA CITY, VAIBHAV KHAND, GHAZIABAD, INDIRAPURAM | E23: guptabhi13@gmail.com | F23: 9654252708 | G23: 9654252708 | H23: GHAZIABAD | I23: UTTAR PRADESH | J23: 201014 | K23: Flat No-K-302, Aditya Mega City, Vaibhav Khand, Ghaziabad, Indirapuram | O23: GHAZIABAD | P23: UTTAR PRADESH | Q23: 201014 | R23: Aug 25, 2016 | S23: Perpetual
A24: Abhinay Jain | B24: INA000009700 | C24: Abhinay Jain | D24: H-501, Akruti Orchid Park, Sakinaka, Andheri (E) | E24: jainabhinay@gmail.com | H24: MUMBAI | I24: MAHARASHTRA | J24: 400072 | K24: H-501, Akruti Orchid Park, Sakinaka, Andheri (E) | O24: MUMBAI | P24: MAHARASHTRA | Q24: 400072 | R24: Feb 06, 2018 | S24: Perpetual
A25: Abhishake Mathur | B25: INA000016029 | C25: Abhishake Mathur | D25: 301 Wing B, Hubtown Sunmist, N S Phadke Road, Andheri East | E25: matshivas@gmail.com | H25: MUMBAI | I25: MAHARASHTRA | J25: 400069 | K25: 301 Wing B, Hubtown Sunmist, N S Phadke Road, Andheri East | O25: MUMBAI | P25: MAHARASHTRA | Q25: 400069 | R25: Jul 28, 2021 | S25: Perpetual
A26: Abhishek | B26: INA100008452 | C26: Abhishek Yadav | D26: PLOT NO. 244P, SEC 9A, URBAN STATE | E26: mail.abhishek880@gmail.com | H26: GURGAON | I26: HARYANA | J26: 122001 | K26: PLOT NO. 244P, SEC 9A, URBAN STATE | O26: GURGAON | P26: HARYANA | Q26: 122001 | R26: Sep 15, 2017 | S26: Perpetual
A27: ABHISHEK AGARWAL | B27: INA000004047 | C27: ABHISHEK AGARWAL | D27: C-18, IKE-NO-MIDORI, NEAR MARATHA MANDIR, NDA ROAD, BAVDHAN | E27: abhishek@horusfinancials.com | F27: 9970186926 | G27: 9970186926 | H27: PUNE | I27: MAHARASHTRA | J27: 411021 | K27: 4th Floor, Bundal Capital, Kothrud Depot | O27: PUNE | P27: MAHARASHTRA | Q27: 411038 | R27: Jan 22, 2016 | S27: Perpetual
A28: ABHISHEK KUMAR | B28: INA100008045 | C28: ABHISHEK KUMAR | D28: HOUSE NO. 48, SECOND FLOOR, GALI NO-7, NEW MAHAVIR NAGAR | E28: abhishekk13@iimb.ernet.in | H28: DELHI | I28: NATIONAL CAPITAL TERRITORY OF DELHI | J28: 110018 | K28: HOUSE NO. 48, SECOND FLOOR, GALI NO-7, NEW MAHAVIR NAGAR | O28: DELHI | P28: NATIONAL CAPITAL TERRITORY OF DELHI | Q28: 110018 | R28: Jul 13, 2017 | S28: Perpetual
A29: Abhishek Maheshwari (Proprietor of SkyRidge Wealth Management) | B29: INA000015066 | C29: Abhishek Maheshwari | D29: 805/B-Wing, Jeevan VIhar, Manav Mandir Road, Malabar Hills | E29: skyridge.advisors@gmail.com | H29: MUMBAI | I29: MAHARASHTRA | J29: 400006 | K29: 805/B-Wing, Jeevan VIhar, Manav Mandir Road, Malabar Hills | O29: MUMBAI | P29: MAHARASHTRA | Q29: 400006 | R29: Sep 04, 2020 | S29: Perpetual
A30: ABHISHEK PATEL PROPRIETOR, M/S PINNACLE FINANCIAL SERVICES | B30: INA000001308 | C30: ABHISHEK PATEL | D30: 101-105, SAYAJI PLAZA, BESIDES AXIS BANK, NEAR SAYAJI HOTEL, SCHEME NUMBER 54, VIJAY NAGAR | E30: er.abhishekpatel@gmail.com | F30: 07316655555 | G30: 07316655555 | H30: INDORE | I30: MADHYA PRADESH | J30: 452010 | K30: 101-105, Sayaji Plaza, Besides Axis Bank, Near Sayaji Hotel, Scheme Number 54, Vijay Nagar | O30: INDORE | P30: MADHYA PRADESH | Q30: 452010 | R30: Mar 21, 2014 | S30: Perpetual
A31: ABUBAKR SIDDIQUE. A.G. | B31: INA200000910 | C31: ABUBAKR SIDDIQUE. A.G. | D31: No.46, 2nd Cross Street, Sri Moogambigai Nagar, Thanampalayam | E31: myplanner@wealthtraits.com | F31: 4422641424 | G31: 4422641424 | H31: PUDUCHERRY | I31: PUDUCHERRY | J31: 605007 | K31: No.6, Ponni Amman Koil 2nd Street, C. Pallavaram, | O31: CHENNAI | P31: TAMIL NADU | Q31: 600043 | R31: Jan 27, 2014 | S31: Perpetual
A32: Accelpru Investment Advisors | B32: INA000015774 | C32: Umang Parekh | D32: 95, Floor- 9, Plot- 223, Maker Chamber III,, Jamnalal Bajaj Marg, Nariman Point, | E32: info@accelpru.com | F32: 912225132272 | G32: 912225132272 | H32: MUMBAI | I32: MAHARASHTRA | J32: 400021 | K32: 95, Floor- 9, Plot- 223, Maker Chamber III, Jamnalal Bajaj Marg, Nariman Point, | O32: MUMBAI | P32: MAHARASHTRA | Q32: 400021 | R32: Feb 23, 2021 | S32: Perpetual
A33: ACUITAS CAPITAL ADVISORS PRIVATE LIMITED | B33: INA000003957 | C33: MR. DINESH NANIK VASWANI | D33: 101, MAKER CHAMBERS III, PLOT NO. 223, NARIMAN POINT | E33: dinesh@acuitascapital.in | F33: 2261120102 | G33: 2261120102 | H33: MUMBAI | I33: MAHARASHTRA | J33: 400021 | K33: 101, Maker Chambers III, Plot No. 223, Nariman Point | O33: MUMBAI | P33: MAHARASHTRA | Q33: 400021 | R33: Dec 29, 2015 | S33: Perpetual
A34: ADARSH AGRAWAL PROP. REGROW INVESTMENT | B34: INA000005515 | D34: Office no 103-104 sneha nagar scheme no 31 navrang plaza sapna sangeeta | E34: adi.agrawal9@gmail.com | F34: 07313319509 | G34: 07313319509 | H34: INDORE | I34: MADHYA PRADESH | J34: 452001 | K34: Apollo Square 232, Plot No. 7/2, Race Course Road | O34: INDORE | P34: MADHYA PRADESH | Q34: 452001 | R34: Aug 31, 2016 | S34: Perpetual
A35: Adhish patel | B35: INA000013183 | C35: Adhish Patel | D35: 3 Royal Kadamb Bungalows, Nr. Silver Square Complex, Thaltej | E35: adhishpatel@gmail.com | H35: AHMEDABAD | I35: GUJARAT | J35: 380059 | K35: 3 Royal Kadamb Bungalows, Nr. Silver Square Complex, Thaltej | O35: AHMEDABAD | P35: GUJARAT | Q35: 380059 | R35: May 06, 2019 | S35: Perpetual
A36: ADITYA BIRLA MONEY LIMITED | B36: INA000009214 | C36: MURALIKRISHNAN L R | D36: INDIAN RAYON COMPUND, VERAVAL | E36: murali.lr@adityabirla.com | H36: JUNAGADH | I36: GUJARAT | J36: 362266 | K36: Ali Centre, No. 53, Greams Road | O36: CHENNAI | P36: TAMIL NADU | Q36: 600006 | R36: Dec 12, 2017 | S36: Perpetual
A37: Aditya Govindaraj | B37: INA200011736 | C37: Aditya Govindaraj | D37: New 2 Old 75 2nd Street Karpagam Avenue, R A Puram | E37: aditya.invest@outlook.com | H37: CHENNAI | I37: TAMIL NADU | J37: 600028 | K37: New 2 Old 75 2nd Street Karpagam Avenue, R A Puram | O37: CHENNAI | P37: TAMIL NADU | Q37: 600028 | R37: Sep 24, 2018 | S37: Perpetual
A38: Aditya Shah | B38: INA000012740 | C38: Aditya Shah | D38: 701 A Paloma Hiranandani Estate | E38: adityashah291@gmail.com | H38: THANE | I38: MAHARASHTRA | J38: 400607 | K38: 701 A Paloma Hiranandani Estate | O38: THANE | P38: MAHARASHTRA | Q38: 400607 | R38: Mar 19, 2019 | S38: Perpetual
A39: ADV Partners Advisors India Private Limited | B39: INA000015312 | R39: Oct 22, 2020 | S39: Perpetual
A40: ADVANTAGE FINANCIAL PLANNERS LLP | B40: INA100000952 | C40: SH TARESH BHATIA | D40: 107, QUTAB PLAZA, DLF PHASE-1 | E40: taresh@advantagefp.in | F40: 0124 4502200 | G40: 0124 4502200 | H40: GURGAON | I40: HARYANA | J40: 122002 | K40: 107, Qutab Plaza, DLF Phase-1 | O40: GURGAON | P40: HARYANA | Q40: 122002 | R40: Jan 31, 2014 | S40: Perpetual
...

Sheet BSEASL List
A1: S. No. | B1: Name of the Investment Adviser | C1: SEBI Registration No. | D1: BASL Membership ID | E1: Member type | F1: Registered Address
A2: 861 | B2: 1 FINANCE PRIVATE LIMITED | C2: INA000017523 | D2: 1936 | E2: Corporate body | F2: Marwadi financial Plaza, Nana Mava road, Off 150 feet ring road Gujarat Rajkot 360001
A3: 671 | B3: 1729 Advisors LLP | C3: INA100011951 | D3: 1740 | E3: LLP | F3: k-135 South City - 1 Haryana Gurgaon 122001
A4: 818 | B4: 21G INVESTMENT ADVISERS PRIVATE LIMITED | C4: INA000017231 | D4: 1891 | E4: Corporate body | F4: 2455 GR DN ARJAN NAGAR R S ROAD LUDHIANA Punjab 141003
A5: 639 | B5: 29k Investment Advisers Private Limited | C5: INA200000365 | D5: 1701 | E5: Corporate body | F5: No. 390, 7th Main, 9th Cross, 2nd Block Jayanagar Bangalore 560011
A6: 265 | B6: 6 Sigma Wealth Advisors | C6: INA200002536 | D6: 1287 | E6: Partnership | F6: New No. 66, 3rd Main Road, Kasturba Nagar, Adyar, Chennai 600 020
A7: 388 | B7: 90-10 Financial Planners Pvt. Ltd | C7: INA200008291 | D7: 1418 | E7: Corporate body | F7: No 321 Jaiganesh 2nd floor 36th A cross 7th main Jayanagar 5th Block, Bangalore 560041
A8: 63 | B8: A&A DUKAAN FINANCIAL SERVICES PRIVATE LIMITED | C8: INA200006600 | D8: 1066 | E8: Corporate body | F8: Module No.604, 6th Floor, TICEL Bio Park Phase II, NO. 5, CSIR Road, Taramani Chennai-600113
A9: 85 | B9: A. K. Capital Services Limited | C9: INA000007669 | D9: 1091 | E9: Corporate body | F9: UNIT NO 601 602 603 6TH FLOOR WINDSOR KOLE KALYAN OFF CST ROAD VIDYANAGARI MARG KALINA SANTACRUZ (E) MUMBAI 400098
A10: 634 | B10: Aarti Mohan (Proprietor : Aurion Advisors) | C10: INA000016454 | D10: 1696 | E10: Sole proprietor | F10: 32 RIVOLI APARTMENTS, 49 VERONICA ROAD, BANDRA WEST, Mumbai 400050
A11: 684 | B11: AAUM INVESTMENT ADVISERS PRIVATE LIMITED | C11: INA100005050 | D11: 1753 | E11: Corporate body | F11: No. 44/38, 2nd Floor, Veerabadran Street, Nungambakkam, Chennai 600034
A12: 87 | B12: ABAKKUS ASSET MANAGER LLP | C12: INA000015729 | D12: 1093 | E12: LLP | F12: ABAKKUS CORPORATE CENTER, 6TH FLOOR, PARAM HOUSE, SHANTI NAGAR, OFF. SANTACRUZ CHEMBUR LINK ROAD, SANTACRUZ EAST, MUMBAI 400055
A13: 434 | B13: ABANS COMMODITIES INDIA PVT LTD | C13: INA100015285 | D13: 1472 | E13: Corporate body | F13: 36, 37, 38A, 3rd Floor, 227 Nariman Bhavan,, Backbay Reclamation, Nariman Point, Mumbai 400021
... A887: 404 | B887: Zvest Financial Services LLP | C887: INA200007450 | D887: 1437 | E887: LLP | F887: Zvest Financial Services LLP, No. 204 (E2), Ligoury Court, Palmgrove Road, Victoria Layo, Bangalore 560047

Sheet ARIA Member List
A1: Joining Date | B1: Expires On | C1: First Name | D1: Last Name | E1: Email | F1: Phone | G1: Company Name | H1: Designation | I1: RIA Code | J1: yes or no | K1: GST Number | L1: City | M1: Full Address | N1: Order No | O1: Membership Status | P1: Membership | Q1: Category | R1: Membership No | S1: BSEASL registration number | T1: Remark
